BEGIN:VCALENDAR
VERSION:2.0
PRODID:-//RGFormation - ECPv6.15.20//NONSGML v1.0//EN
CALSCALE:GREGORIAN
METHOD:PUBLISH
X-WR-CALNAME:RGFormation
X-ORIGINAL-URL:https://www.rgformation.fr
X-WR-CALDESC:Évènements pour RGFormation
REFRESH-INTERVAL;VALUE=DURATION:PT1H
X-Robots-Tag:noindex
X-PUBLISHED-TTL:PT1H
BEGIN:VTIMEZONE
TZID:Europe/Paris
BEGIN:DAYLIGHT
TZOFFSETFROM:+0100
TZOFFSETTO:+0200
TZNAME:CEST
DTSTART:20250330T010000
END:DAYLIGHT
BEGIN:STANDARD
TZOFFSETFROM:+0200
TZOFFSETTO:+0100
TZNAME:CET
DTSTART:20251026T010000
END:STANDARD
BEGIN:DAYLIGHT
TZOFFSETFROM:+0100
TZOFFSETTO:+0200
TZNAME:CEST
DTSTART:20260329T010000
END:DAYLIGHT
BEGIN:STANDARD
TZOFFSETFROM:+0200
TZOFFSETTO:+0100
TZNAME:CET
DTSTART:20261025T010000
END:STANDARD
BEGIN:DAYLIGHT
TZOFFSETFROM:+0100
TZOFFSETTO:+0200
TZNAME:CEST
DTSTART:20270328T010000
END:DAYLIGHT
BEGIN:STANDARD
TZOFFSETFROM:+0200
TZOFFSETTO:+0100
TZNAME:CET
DTSTART:20271031T010000
END:STANDARD
END:VTIMEZONE
BEGIN:VEVENT
DTSTART;TZID=Europe/Paris:20260420T080000
DTEND;TZID=Europe/Paris:20260420T160000
DTSTAMP:20260420T015400
CREATED:20251219T193506Z
LAST-MODIFIED:20251219T193510Z
UID:3571-1776672000-1776700800@www.rgformation.fr
SUMMARY:MAC SST Vervins avril 2026
DESCRIPTION:
URL:https://www.rgformation.fr/calendrier/mac-sst-vervins-avril-2026/
LOCATION:RGFORMATION – CREAPOLE\, 24 Route d'Hirson\, Vervins\, 02140
ORGANIZER;CN="RGFormation":MAILTO:contact@rgformation.fr
END:VEVENT
END:VCALENDAR